BEGIN:VCALENDAR
VERSION:2.0
PRODID:-//pretix//VR_Ticket//
BEGIN:VEVENT
UID:pretix-booker-cl-tdot-25-0@tickets.circle.events
DTSTART;VALUE=DATE:20250909
DTEND;VALUE=DATE:20250910
DESCRIPTION:Tickets: https://tickets.circle.events/tdot-25/\nVeranstalter: 
 elevener GmbH / Circle Lounge
DTSTAMP:20260421T062428Z
LOCATION:LANXESS arena\,\, Willy-Brandt-Platz 1\, 50679 Köln
SUMMARY:Tag der offenen Tür
END:VEVENT
END:VCALENDAR
