BEGIN:VCALENDAR
VERSION:2.0
PRODID:-//pretix//VR_Ticket//
BEGIN:VTIMEZONE
TZID:Europe/Berlin
BEGIN:STANDARD
DTSTART:20001029T040000
RRULE:FREQ=YEARLY;BYDAY=-1SU;BYMONTH=10
TZNAME:CET
TZOFFSETFROM:+0200
TZOFFSETTO:+0100
END:STANDARD
BEGIN:DAYLIGHT
DTSTART:20000326T030000
RRULE:FREQ=YEARLY;BYDAY=-1SU;BYMONTH=3
TZNAME:CEST
TZOFFSETFROM:+0100
TZOFFSETTO:+0200
END:DAYLIGHT
END:VTIMEZONE
BEGIN:VEVENT
UID:pretix-booker-cl-helenefischer-0@tickets.circle.events
DTSTART;TZID=Europe/Berlin:20230826T200000
DTEND;TZID=Europe/Berlin:20230826T210000
DESCRIPTION:Tickets: https://tickets.circle.events/helenefischer/\nEinlass:
  26.08.2023 18:00\nVeranstalter: elevener GmbH / Circle Lounge
DTSTAMP:20260421T082407Z
LOCATION:LANXESS arena\,\, Willy-Brandt-Platz 1\, 50679 Köln
SUMMARY:Helene Fischer - Rausch - Live - Die Tour
END:VEVENT
END:VCALENDAR
