BEGIN:VCALENDAR
VERSION:2.0
PRODID:-//pretix//VR_Ticket//
BEGIN:VTIMEZONE
TZID:Europe/Berlin
BEGIN:STANDARD
DTSTART:20001029T040000
RRULE:FREQ=YEARLY;BYDAY=-1SU;BYMONTH=10
TZNAME:CET
TZOFFSETFROM:+0200
TZOFFSETTO:+0100
END:STANDARD
BEGIN:DAYLIGHT
DTSTART:20000326T030000
RRULE:FREQ=YEARLY;BYDAY=-1SU;BYMONTH=3
TZNAME:CEST
TZOFFSETFROM:+0100
TZOFFSETTO:+0200
END:DAYLIGHT
END:VTIMEZONE
BEGIN:VEVENT
UID:pretix-booker-cl-gutschein-0@tickets.circle.events
DTSTART;VALUE=DATE:20240101
DTEND;VALUE=DATE:20240102
DESCRIPTION:Tickets: https://tickets.circle.events/gutschein/\nEinlass: 01.
 01.2023 16:00\nVeranstalter: elevener GmbH / Circle Lounge
DTSTAMP:20260419T144805Z
LOCATION:LANXESS arena\,\, Willy-Brandt-Platz 1\, 50679 Köln
SUMMARY:Circle Lounge Gutschein
END:VEVENT
BEGIN:VEVENT
UID:pretix-booker-cl-bryanadams26-0@tickets.circle.events
DTSTART;TZID=Europe/Berlin:20261003T200000
DTEND;TZID=Europe/Berlin:20261003T210000
DESCRIPTION:Tickets: https://tickets.circle.events/bryanadams26/\nVeranstal
 ter: elevener GmbH / Circle Lounge
DTSTAMP:20260419T144805Z
LOCATION:LANXESS arena\,\, Willy-Brandt-Platz 1\, 50679 Köln
SUMMARY:Bryan Adams - Roll with the Punches Tour
END:VEVENT
BEGIN:VEVENT
UID:pretix-booker-cl-Apache-0610-0@tickets.circle.events
DTSTART;TZID=Europe/Berlin:20261006T200000
DTEND;TZID=Europe/Berlin:20261006T210000
DESCRIPTION:Tickets: https://tickets.circle.events/Apache-0610/\nVeranstalt
 er: elevener GmbH / Circle Lounge
DTSTAMP:20260419T144805Z
LOCATION:LANXESS arena\,\, Willy-Brandt-Platz 1\, 50679 Köln
SUMMARY:Apache 207 - Arena Tour 2025/2026 - Zusatzkonzert
END:VEVENT
BEGIN:VEVENT
UID:pretix-booker-cl-kasalla27-0@tickets.circle.events
DTSTART;TZID=Europe/Berlin:20261017T200000
DTEND;TZID=Europe/Berlin:20261017T210000
DESCRIPTION:Tickets: https://tickets.circle.events/kasalla27/\nEinlass: 17.
 10.2026 18:00\nVeranstalter: elevener GmbH / Circle Lounge
DTSTAMP:20260419T144805Z
LOCATION:LANXESS arena\,\, Willy-Brandt-Platz 1\, 50679 Köln
SUMMARY:Kasalla - 15 Jahre Kasalla - Die Jubiläumskonzerte
END:VEVENT
BEGIN:VEVENT
UID:pretix-booker-cl-NOTP041226-0@tickets.circle.events
DTSTART;TZID=Europe/Berlin:20261204T200000
DTEND;TZID=Europe/Berlin:20261204T210000
DESCRIPTION:Tickets: https://tickets.circle.events/NOTP041226/\nEinlass: 04
 .12.2026 18:00\nVeranstalter: elevener GmbH / Circle Lounge
DTSTAMP:20260419T144805Z
LOCATION:LANXESS arena\,\, Willy-Brandt-Platz 1\, 50679 Köln
SUMMARY:Night of the Proms - Klassik trifft Pop
END:VEVENT
BEGIN:VEVENT
UID:pretix-booker-cl-fanta4-27-0@tickets.circle.events
DTSTART;TZID=Europe/Berlin:20270112T200000
DTEND;TZID=Europe/Berlin:20270112T210000
DESCRIPTION:Tickets: https://tickets.circle.events/fanta4-27/\nEinlass: 12.
 01.2027 18:00\nVeranstalter: elevener GmbH / Circle Lounge
DTSTAMP:20260419T144805Z
LOCATION:LANXESS arena\,\, Willy-Brandt-Platz 1\, 50679 Köln
SUMMARY:Die Fantastischen Vier - Der letzte Bus
END:VEVENT
BEGIN:VEVENT
UID:pretix-booker-cl-lka1601-0@tickets.circle.events
DTSTART;TZID=Europe/Berlin:20270116T183000
DTEND;TZID=Europe/Berlin:20270116T193000
DESCRIPTION:Tickets: https://tickets.circle.events/lka1601/\nEinlass: 16.01
 .2027 17:30\nVeranstalter: elevener GmbH / Circle Lounge
DTSTAMP:20260419T144805Z
LOCATION:LANXESS arena\,\, Willy-Brandt-Platz 1\, 50679 Köln
SUMMARY:Lachende Kölnarena
END:VEVENT
BEGIN:VEVENT
UID:pretix-booker-cl-dieaerzte-3004-0@tickets.circle.events
DTSTART;TZID=Europe/Berlin:20270430T190000
DTEND;TZID=Europe/Berlin:20270430T200000
DESCRIPTION:Tickets: https://tickets.circle.events/dieaerzte-3004/\nVeranst
 alter: elevener GmbH / Circle Lounge
DTSTAMP:20260419T144805Z
LOCATION:LANXESS arena\,\, Willy-Brandt-Platz 1\, 50679 Köln
SUMMARY:die ärzte: Eine Gänsehaut nach dem andern! - Tour 2027
END:VEVENT
BEGIN:VEVENT
UID:pretix-booker-cl-groenemeyer27-0@tickets.circle.events
DTSTART;TZID=Europe/Berlin:20270605T200000
DTEND;TZID=Europe/Berlin:20270605T210000
DESCRIPTION:Tickets: https://tickets.circle.events/groenemeyer27/\nEinlass:
  05.06.2027 18:00\nVeranstalter: elevener GmbH / Circle Lounge
DTSTAMP:20260419T144805Z
LOCATION:LANXESS arena\,\, Willy-Brandt-Platz 1\, 50679 Köln
SUMMARY:Herbert Grönemeyer - Arena Tour 2027
END:VEVENT
END:VCALENDAR
