BEGIN:VCALENDAR
VERSION:2.0
PRODID:-//pretix//VR_Ticket//
BEGIN:VTIMEZONE
TZID:Europe/Berlin
BEGIN:STANDARD
DTSTART:20001029T040000
RRULE:FREQ=YEARLY;BYDAY=-1SU;BYMONTH=10
TZNAME:CET
TZOFFSETFROM:+0200
TZOFFSETTO:+0100
END:STANDARD
BEGIN:DAYLIGHT
DTSTART:20000326T030000
RRULE:FREQ=YEARLY;BYDAY=-1SU;BYMONTH=3
TZNAME:CEST
TZOFFSETFROM:+0100
TZOFFSETTO:+0200
END:DAYLIGHT
END:VTIMEZONE
BEGIN:VEVENT
UID:pretix-booker-cl-NOTP201225-2-0@tickets.circle.events
DTSTART;TZID=Europe/Berlin:20251220T200000
DTEND;TZID=Europe/Berlin:20251220T210000
DESCRIPTION:Tickets: https://tickets.circle.events/NOTP201225-2/\nEinlass: 
 20.12.2025 18:00\nVeranstalter: elevener GmbH / Circle Lounge
DTSTAMP:20260421T062120Z
LOCATION:LANXESS arena\,\, Willy-Brandt-Platz 1\, 50679 Köln
SUMMARY:Night of the Proms - Klassik trifft Pop
END:VEVENT
END:VCALENDAR
